BEGIN:VCALENDAR
VERSION:2.0
PRODID:-//Marianela de la Hoz - ECPv6.15.18//NONSGML v1.0//EN
CALSCALE:GREGORIAN
METHOD:PUBLISH
X-ORIGINAL-URL:https://marianeladelahoz.com
X-WR-CALDESC:Events for Marianela de la Hoz
REFRESH-INTERVAL;VALUE=DURATION:PT1H
X-Robots-Tag:noindex
X-PUBLISHED-TTL:PT1H
BEGIN:VTIMEZONE
TZID:America/Tijuana
BEGIN:DAYLIGHT
TZOFFSETFROM:-0800
TZOFFSETTO:-0700
TZNAME:PDT
DTSTART:20220313T100000
END:DAYLIGHT
BEGIN:STANDARD
TZOFFSETFROM:-0700
TZOFFSETTO:-0800
TZNAME:PST
DTSTART:20221106T090000
END:STANDARD
BEGIN:DAYLIGHT
TZOFFSETFROM:-0800
TZOFFSETTO:-0700
TZNAME:PDT
DTSTART:20230312T100000
END:DAYLIGHT
BEGIN:STANDARD
TZOFFSETFROM:-0700
TZOFFSETTO:-0800
TZNAME:PST
DTSTART:20231105T090000
END:STANDARD
BEGIN:DAYLIGHT
TZOFFSETFROM:-0800
TZOFFSETTO:-0700
TZNAME:PDT
DTSTART:20240310T100000
END:DAYLIGHT
BEGIN:STANDARD
TZOFFSETFROM:-0700
TZOFFSETTO:-0800
TZNAME:PST
DTSTART:20241103T090000
END:STANDARD
BEGIN:DAYLIGHT
TZOFFSETFROM:-0800
TZOFFSETTO:-0700
TZNAME:PDT
DTSTART:20250309T100000
END:DAYLIGHT
BEGIN:STANDARD
TZOFFSETFROM:-0700
TZOFFSETTO:-0800
TZNAME:PST
DTSTART:20251102T090000
END:STANDARD
END:VTIMEZONE
BEGIN:VEVENT
DTSTART;TZID=America/Tijuana:20240928T000000
DTEND;TZID=America/Tijuana:20241116T000000
DTSTAMP:20260422T043428
CREATED:20240820T224828Z
LAST-MODIFIED:20240820T225452Z
UID:3685-1727481600-1731715200@marianeladelahoz.com
SUMMARY:Polvo de Luz
DESCRIPTION:Polvo de Luz\nArt Produce\nSeptember 28 - November 16\n\nOpening reception\, Saturday 28th\, 5 - 8 pm.\n3139 University Ave\, San Diego\, CA 92104
URL:https://marianeladelahoz.com/event/polvo-de-luz/
LOCATION:Art Produce\, 3139 University Ave\, San Diego\, CA\, 92104\, United States
ATTACH;FMTTYPE=image/webp:https://marianeladelahoz.com/wp-content/uploads/Virgils-death-copy.webp
END:VEVENT
BEGIN:VEVENT
DTSTART;TZID=America/Tijuana:20240924T170000
DTEND;TZID=America/Tijuana:20241116T210000
DTSTAMP:20260422T043428
CREATED:20241011T042145Z
LAST-MODIFIED:20241011T042145Z
UID:3717-1727197200-1731790800@marianeladelahoz.com
SUMMARY:TEST
DESCRIPTION:
URL:https://marianeladelahoz.com/event/test/
LOCATION:Art Produce\, 3139 University Ave\, San Diego\, CA\, 92104\, United States
END:VEVENT
BEGIN:VEVENT
DTSTART;TZID=America/Tijuana:20240120T160000
DTEND;TZID=America/Tijuana:20240216T190000
DTSTAMP:20260422T043428
CREATED:20240109T233609Z
LAST-MODIFIED:20240110T053903Z
UID:3594-1705766400-1708110000@marianeladelahoz.com
SUMMARY:SIP Art Space
DESCRIPTION:Reception: Saturday\, January 20th\, 4 - 7pm\n\nExhibit run time: January 20 - February 16\, 2024\nGallery hours: By appointment only\, contact (858) 336-6678
URL:https://marianeladelahoz.com/event/sip-art-space/
LOCATION:SIP Art Space\, 215 S Pacific St #104\, San Marcos\, 92078\, United States
ATTACH;FMTTYPE=image/webp:https://marianeladelahoz.com/wp-content/uploads/Alicia-en-el-pais-del-espectaculo-a-traves-de-la-pantalla-y-sus-imagenes-copy.webp
END:VEVENT
BEGIN:VEVENT
DTSTART;VALUE=DATE:20231119
DTEND;VALUE=DATE:20231120
DTSTAMP:20260422T043428
CREATED:20230602T050706Z
LAST-MODIFIED:20230607T000246Z
UID:2172-1700352000-1700438399@marianeladelahoz.com
SUMMARY:Realismo Insano o Perversión de la Salud
DESCRIPTION:
URL:https://marianeladelahoz.com/event/realismo-insano-o-perversion-de-la-salud/
LOCATION:Timken Museum\, 2550 Fifth Avenue\, Suite 500\, San Diego\, CA\, 92103\, United States
ATTACH;FMTTYPE=image/jpeg:https://marianeladelahoz.com/wp-content/uploads/2023/03/2020-Global-Coup-detat-1.jpg
END:VEVENT
BEGIN:VEVENT
DTSTART;TZID=America/Tijuana:20230910T170000
DTEND;TZID=America/Tijuana:20230910T203000
DTSTAMP:20260422T043428
CREATED:20230531T013357Z
LAST-MODIFIED:20230602T051149Z
UID:1988-1694365200-1694377800@marianeladelahoz.com
SUMMARY:Hasta el Ultimo Detalle
DESCRIPTION:Join us for cocktails and art by Marianela de la Hoz
URL:https://marianeladelahoz.com/event/hasta-el-ultimo-detalle/
LOCATION:San Diego Museum of Art\, 1450 El Prado Balboa Park\, San Diego\, CA\, 92101\, United States
ORGANIZER;CN="Tom Phillips":MAILTO:eflips@yahoo.com
END:VEVENT
BEGIN:VEVENT
DTSTART;TZID=America/Tijuana:20230802T080000
DTEND;TZID=America/Tijuana:20230802T170000
DTSTAMP:20260422T043428
CREATED:20230531T012308Z
LAST-MODIFIED:20230602T051115Z
UID:1979-1690963200-1690995600@marianeladelahoz.com
SUMMARY:Ego Pecator
DESCRIPTION:Premier of the exhibit. \n 
URL:https://marianeladelahoz.com/event/ego-pecator/
LOCATION:Timken Museum\, 2550 Fifth Avenue\, Suite 500\, San Diego\, CA\, 92103\, United States
ATTACH;FMTTYPE=image/jpeg:https://marianeladelahoz.com/wp-content/uploads/2023/05/La-Pereza-1-scaled-1-e1684899325349.jpg
ORGANIZER;CN="Tom Phillips":MAILTO:eflips@yahoo.com
END:VEVENT
END:VCALENDAR